BEGIN:VCALENDAR
VERSION:2.0
PRODID:-//www.disabilityrightsnebraska.org//NONSGML kigkonsult.se iCalcreat
 or 2.30.10//
CALSCALE:GREGORIAN
METHOD:PUBLISH
UID:e7fc26a6-537a-457a-9d79-ef9275245ec9
X-WR-CALDESC:<p>First National Bank of Omaha and the Nebraska State Treasur
 er’s Office formally invite you and your family to join a celebration anno
 uncing the launch of the Enable Savings Plan—one of the nation’s first ABL
 E plans created to help individuals with disabilities attain financial ind
 ependence.</p>\n\n<p>The launch event is being held June 30th at Omaha's H
 enry Doorly Zoo and Aquarium at 9:30 am. There will be special events\, en
 tertainment and lunch. Please stay and enjoy the zoo following the festivi
 ties. </p>\n\n<p>Limited space is available. Please click <a href='https:/
 /www.surveymonkey.com/r/EmbraceEnableAtTheZoo' target='_blank'>HERE</a> to
  RSVP by Friday\, June 17.</p>\n\n<p>We appreciate your support during thi
 s exciting time and helping spread the word of this event as we celebrate 
 individuals with disabilities and look to help them attain financial indep
 endence. </p>\n\n<p>To learn more about the Enable Savings Plan\, visit <a
  href='http://enablesavings.com' target='_blank'>EnableSavings.com</a></p>
X-WR-RELCALID:1750dd7e64346313106c5c2236d83eab
X-WR-TIMEZONE:America/Chicago
BEGIN:VTIMEZONE
TZID:America/Chicago
BEGIN:STANDARD
TZNAME:CST
DTSTART:20151101T020000
TZOFFSETFROM:-0500
TZOFFSETTO:-0600
RDATE:20161106T020000
RDATE:20171105T020000
END:STANDARD
BEGIN:DAYLIGHT
TZNAME:CDT
DTSTART:20160313T020000
TZOFFSETFROM:-0600
TZOFFSETTO:-0500
RDATE:20170312T020000
END:DAYLIGHT
END:VTIMEZONE
BEGIN:VEVENT
UID:0f4268a0-8d5a-4018-9000-5fced8067415
DTSTAMP:20260425T005353Z
DESCRIPTION:<p>First National Bank of Omaha and the Nebraska State Treasure
 r’s Office formally invite you and your family to join a celebration annou
 ncing the launch of the Enable Savings Plan—one of the nation’s first ABLE
  plans created to help individuals with disabilities attain financial inde
 pendence.</p>\n\n<p>The launch event is being held June 30th at Omaha's He
 nry Doorly Zoo and Aquarium at 9:30 am. There will be special events\, ent
 ertainment and lunch. Please stay and enjoy the zoo following the festivit
 ies. </p>\n\n<p>Limited space is available. Please click <a href='https://
 www.surveymonkey.com/r/EmbraceEnableAtTheZoo' target='_blank'>HERE</a> to 
 RSVP by Friday\, June 17.</p>\n\n<p>We appreciate your support during this
  exciting time and helping spread the word of this event as we celebrate i
 ndividuals with disabilities and look to help them attain financial indepe
 ndence. </p>\n\n<p>To learn more about the Enable Savings Plan\, visit <a 
 href='http://enablesavings.com' target='_blank'>EnableSavings.com</a></p>
DTSTART;TZID=America/Chicago:20160630T093000
DTEND;TZID=America/Chicago:20160630T160000
LOCATION:Omaha's Henry Doorly Zoo and Aquarium
SUMMARY:Launch Event of the Enable Savings Plan
END:VEVENT
END:VCALENDAR
